BEGIN:VCALENDAR
VERSION:2.0
METHOD:PUBLISH
BEGIN:VEVENT
UID:WILD_APRICOT_EVENT_2632384_SESSION_1
DTSTART:20180617T010000Z
DTEND:20180617T010000Z
SUMMARY:Annual General Meeting
LOCATION:Club house
DESCRIPTION:https://www.flindersyc.com.au/event-2632384\n\nThis is another sample event. With Wild Apricot's Events module\, you can set up any number of events and publish them in an events calendar on your Wild Apricot site (or another website). From the events calendar\, visitors can view event details\, sign up for events\, register guests\, and pay registration fees online.\n  \n You can organize various types of events\, including:\n\n      * conventions\, conferences\, and seminars\n\n\n        * board meetings\n\n\n        * training sessions and webinars\n\n\n        * social events\n\n\n     If you want to learn more\, please visit our Events help page. 
DTSTAMP:20260424T190632Z
END:VEVENT
END:VCALENDAR
