BEGIN:VCALENDAR
VERSION:2.0
METHOD:PUBLISH
BEGIN:VEVENT
UID:WILD_APRICOT_EVENT_2688199_SESSION_1
DTSTART:20171015T020000Z
DTEND:20171015T050000Z
SUMMARY:Race Officer
LOCATION:club house
DESCRIPTION:https://www.flindersyc.com.au/event-2688199\n\n\n\n
DTSTAMP:20260424T182859Z
END:VEVENT
END:VCALENDAR
