BEGIN:VCALENDAR
VERSION:2.0
METHOD:PUBLISH
BEGIN:VEVENT
UID:WILD_APRICOT_EVENT_2719199_SESSION_1
DTSTART:20180102T070000Z
DTEND:20180102T093000Z
SUMMARY:Junior Progressive Dinner
LOCATION:Clubhouse
DESCRIPTION:https://www.flindersyc.com.au/event-2719199\n\n\n\n
DTSTAMP:20260424T171801Z
END:VEVENT
END:VCALENDAR
