BEGIN:VCALENDAR
VERSION:2.0
METHOD:PUBLISH
BEGIN:VEVENT
UID:WILD_APRICOT_EVENT_2719202_SESSION_1
DTSTART:20180117T070000Z
DTEND:20180117T100000Z
SUMMARY:Children's Movie Night
LOCATION:Clubhouse
DESCRIPTION:https://www.flindersyc.com.au/event-2719202\n\n\n\n
DTSTAMP:20260424T160048Z
END:VEVENT
END:VCALENDAR
