BEGIN:VCALENDAR
VERSION:2.0
METHOD:PUBLISH
BEGIN:VEVENT
UID:WILD_APRICOT_EVENT_2719205_SESSION_1
DTSTART:20180127T060000Z
DTEND:20180127T113000Z
SUMMARY:Australia Day Dinner
LOCATION:Clubhouse
DESCRIPTION:https://www.flindersyc.com.au/event-2719205\n\nGather your family and friends and join us for beach games\, great camaraderie\, delicious food and wines. If you were amid the 220 that gathered last year\, you will remember the fabulous gourmet Fish & Chips cooked on the deck by the very handsome chefs from the Flinders Hotel!  Well there coming again\, yummy.\n  Plus you will have your chance to air your hidden flair and contribute to "FYC'S Got Talent Show" with a witty ditty\, a saucy song or mini mime incorporating a strong Aussie theme.\n  Now\, to be able to gain door entry to this amazing event – you must book on TryBooking by 5pm on Monday 22/1.  \n  Bookings:  www.trybooking.com/TRUN\n  \n\n  Aus Day 2018.pdf\n\n
DTSTAMP:20260424T160218Z
END:VEVENT
END:VCALENDAR
