BEGIN:VCALENDAR
VERSION:2.0
METHOD:PUBLISH
BEGIN:VEVENT
UID:WILD_APRICOT_EVENT_2724995_SESSION_1
DTSTART:20171201T220000Z
DTEND:20171202T125900Z
SUMMARY:Private Function
LOCATION:clubhouse
DESCRIPTION:https://www.flindersyc.com.au/event-2724995\n\n\n\n
DTSTAMP:20260424T160152Z
END:VEVENT
END:VCALENDAR
