BEGIN:VCALENDAR
VERSION:2.0
METHOD:PUBLISH
BEGIN:VEVENT
UID:WILD_APRICOT_EVENT_2725013_SESSION_1
DTSTART:20171215T220000Z
DTEND:20171216T125900Z
SUMMARY:Private Function
LOCATION:clubhouse
DESCRIPTION:https://www.flindersyc.com.au/event-2725013\n\n\n\n
DTSTAMP:20260424T171643Z
END:VEVENT
END:VCALENDAR
