BEGIN:VCALENDAR
VERSION:2.0
METHOD:PUBLISH
BEGIN:VEVENT
UID:WILD_APRICOT_EVENT_2725023_SESSION_1
DTSTART:20180215T220000Z
DTEND:20180216T110000Z
SUMMARY:Private Function Set Up Member
LOCATION:
DESCRIPTION:https://www.flindersyc.com.au/event-2725023\n\n\n\n
DTSTAMP:20260424T171138Z
END:VEVENT
END:VCALENDAR
