BEGIN:VCALENDAR
VERSION:2.0
METHOD:PUBLISH
BEGIN:VEVENT
UID:WILD_APRICOT_EVENT_2725040_SESSION_1
DTSTART:20180216T220000Z
DTEND:20180217T125900Z
SUMMARY:Private Function Member
LOCATION:clubhouse
DESCRIPTION:https://www.flindersyc.com.au/event-2725040\n\n\n\n
DTSTAMP:20260424T160118Z
END:VEVENT
END:VCALENDAR
