BEGIN:VCALENDAR
VERSION:2.0
METHOD:PUBLISH
BEGIN:VEVENT
UID:WILD_APRICOT_EVENT_2725044_SESSION_1
DTSTART:20180316T220000Z
DTEND:20180317T125900Z
SUMMARY:Private Function
LOCATION:clubhouse
DESCRIPTION:https://www.flindersyc.com.au/event-2725044\n\n\n\n
DTSTAMP:20260424T171303Z
END:VEVENT
END:VCALENDAR
