BEGIN:VCALENDAR
VERSION:2.0
METHOD:PUBLISH
BEGIN:VEVENT
UID:WILD_APRICOT_EVENT_2725047_SESSION_1
DTSTART:20180405T060000Z
DTEND:20180405T100000Z
SUMMARY:Private Function Set Up
LOCATION:clubhouse
DESCRIPTION:https://www.flindersyc.com.au/event-2725047\n\n\n\n
DTSTAMP:20260424T171241Z
END:VEVENT
END:VCALENDAR
