BEGIN:VCALENDAR
VERSION:2.0
METHOD:PUBLISH
BEGIN:VEVENT
UID:WILD_APRICOT_EVENT_2725048_SESSION_1
DTSTART:20180405T230000Z
DTEND:20180406T135900Z
SUMMARY:Private Function
LOCATION:clubhouse
DESCRIPTION:https://www.flindersyc.com.au/event-2725048\n\n\n\n
DTSTAMP:20260424T160028Z
END:VEVENT
END:VCALENDAR
