BEGIN:VCALENDAR
VERSION:2.0
METHOD:PUBLISH
BEGIN:VEVENT
UID:WILD_APRICOT_EVENT_2725059_SESSION_1
DTSTART:20180315T220000Z
DTEND:20180316T090000Z
SUMMARY:Private Function Set Up
LOCATION:
DESCRIPTION:https://www.flindersyc.com.au/event-2725059\n\n\n\n
DTSTAMP:20260424T160213Z
END:VEVENT
END:VCALENDAR
