BEGIN:VCALENDAR
VERSION:2.0
METHOD:PUBLISH
BEGIN:VEVENT
UID:WILD_APRICOT_EVENT_2725061_SESSION_1
DTSTART:20180412T230000Z
DTEND:20180413T100000Z
SUMMARY:Private Function Set Up
LOCATION:
DESCRIPTION:https://www.flindersyc.com.au/event-2725061\n\n\n\n
DTSTAMP:20260424T162754Z
END:VEVENT
END:VCALENDAR
