BEGIN:VCALENDAR
VERSION:2.0
METHOD:PUBLISH
BEGIN:VEVENT
UID:WILD_APRICOT_EVENT_2725073_SESSION_1
DTSTART:20180308T220000Z
DTEND:20180312T090000Z
SUMMARY:Club Use
LOCATION:Club House
DESCRIPTION:https://www.flindersyc.com.au/event-2725073\n\n\n\n
DTSTAMP:20260424T171508Z
END:VEVENT
END:VCALENDAR
