BEGIN:VCALENDAR
VERSION:2.0
METHOD:PUBLISH
BEGIN:VEVENT
UID:WILD_APRICOT_EVENT_2725097_SESSION_1
DTSTART:20180608T070000Z
DTEND:20180611T070000Z
SUMMARY:Club Use
LOCATION:Club House
DESCRIPTION:https://www.flindersyc.com.au/event-2725097\n\n\n\n
DTSTAMP:20260424T174125Z
END:VEVENT
END:VCALENDAR
