BEGIN:VCALENDAR
VERSION:2.0
METHOD:PUBLISH
BEGIN:VEVENT
UID:WILD_APRICOT_EVENT_2725100_SESSION_1
DTSTART:20180202T060000Z
DTEND:20180202T110000Z
SUMMARY:FYC Feb Twilight on the Deck (session 1 of 4)
LOCATION:
DESCRIPTION:https://www.flindersyc.com.au/event-2725100\n\n\n\n
DTSTAMP:20260424T160024Z
END:VEVENT
BEGIN:VEVENT
UID:WILD_APRICOT_EVENT_2725100_SESSION_2
DTSTART:20180209T060000Z
DTEND:20180209T110000Z
SUMMARY:FYC Feb Twilight on the Deck (session 2 of 4)
LOCATION:
DESCRIPTION:https://www.flindersyc.com.au/event-2725100\n\n\n\n
DTSTAMP:20260424T160024Z
END:VEVENT
BEGIN:VEVENT
UID:WILD_APRICOT_EVENT_2725100_SESSION_3
DTSTART:20180216T060000Z
DTEND:20180216T110000Z
SUMMARY:FYC Feb Twilight on the Deck (session 3 of 4)
LOCATION:
DESCRIPTION:https://www.flindersyc.com.au/event-2725100\n\n\n\n
DTSTAMP:20260424T160024Z
END:VEVENT
BEGIN:VEVENT
UID:WILD_APRICOT_EVENT_2725100_SESSION_4
DTSTART:20180223T060000Z
DTEND:20180223T110000Z
SUMMARY:FYC Feb Twilight on the Deck (session 4 of 4)
LOCATION:
DESCRIPTION:https://www.flindersyc.com.au/event-2725100\n\n\n\n
DTSTAMP:20260424T160024Z
END:VEVENT
END:VCALENDAR
