BEGIN:VCALENDAR
VERSION:2.0
METHOD:PUBLISH
BEGIN:VEVENT
UID:WILD_APRICOT_EVENT_2728822_SESSION_1
DTSTART:20180112T000000Z
DTEND:20180112T040000Z
SUMMARY:Ladies Lunch
LOCATION:Montalto Piazza Cafe - 33 Shoreham Rd Red Hill South\, Red Hill\, Victoria 3937
DESCRIPTION:https://www.flindersyc.com.au/event-2728822\n\nLadies Lunch commencing 11 am for 12 pm lunch\n  2018 Ladies Lunch Event Flyer.pdf\n\n  \n\n
DTSTAMP:20260424T183823Z
END:VEVENT
END:VCALENDAR
