BEGIN:VCALENDAR
VERSION:2.0
METHOD:PUBLISH
BEGIN:VEVENT
UID:WILD_APRICOT_EVENT_2736594_SESSION_1
DTSTART:20180321T040000Z
DTEND:20180321T090000Z
SUMMARY:Private Function
LOCATION:clubhouse
DESCRIPTION:https://www.flindersyc.com.au/event-2736594\n\n\n\n
DTSTAMP:20260424T155904Z
END:VEVENT
END:VCALENDAR
