BEGIN:VCALENDAR
VERSION:2.0
METHOD:PUBLISH
BEGIN:VEVENT
UID:WILD_APRICOT_EVENT_2736598_SESSION_1
DTSTART:20181116T220000Z
DTEND:20181117T123000Z
SUMMARY:Private Function
LOCATION:clubhouse
DESCRIPTION:https://www.flindersyc.com.au/event-2736598\n\n\n\n
DTSTAMP:20260424T173758Z
END:VEVENT
END:VCALENDAR
