BEGIN:VCALENDAR
VERSION:2.0
METHOD:PUBLISH
BEGIN:VEVENT
UID:WILD_APRICOT_EVENT_2738500_SESSION_1
DTSTART:20181108T220000Z
DTEND:20181109T123000Z
SUMMARY:Private Function Set Up
LOCATION:
DESCRIPTION:https://www.flindersyc.com.au/event-2738500\n\n\n\n
DTSTAMP:20260424T162922Z
END:VEVENT
END:VCALENDAR
