BEGIN:VCALENDAR
VERSION:2.0
METHOD:PUBLISH
BEGIN:VEVENT
UID:WILD_APRICOT_EVENT_2756091_SESSION_1
DTSTART:20181213T220000Z
DTEND:20181214T123000Z
SUMMARY:Private Function Set Up
LOCATION:
DESCRIPTION:https://www.flindersyc.com.au/event-2756091\n\n\n\n
DTSTAMP:20260424T174418Z
END:VEVENT
END:VCALENDAR
