BEGIN:VCALENDAR
VERSION:2.0
METHOD:PUBLISH
BEGIN:VEVENT
UID:WILD_APRICOT_EVENT_2756099_SESSION_1
DTSTART:20181129T220000Z
DTEND:20181130T123000Z
SUMMARY:Private Function Set Up
LOCATION:
DESCRIPTION:https://www.flindersyc.com.au/event-2756099\n\n\n\n
DTSTAMP:20260424T162104Z
END:VEVENT
END:VCALENDAR
