BEGIN:VCALENDAR
VERSION:2.0
METHOD:PUBLISH
BEGIN:VEVENT
UID:WILD_APRICOT_EVENT_2756103_SESSION_1
DTSTART:20181206T220000Z
DTEND:20181207T123000Z
SUMMARY:Private Function Set Up
LOCATION:
DESCRIPTION:https://www.flindersyc.com.au/event-2756103\n\n\n\n
DTSTAMP:20260424T154658Z
END:VEVENT
END:VCALENDAR
