BEGIN:VCALENDAR
VERSION:2.0
METHOD:PUBLISH
BEGIN:VEVENT
UID:WILD_APRICOT_EVENT_2756104_SESSION_1
DTSTART:20181130T220000Z
DTEND:20181201T125900Z
SUMMARY:Private Function
LOCATION:clubhouse
DESCRIPTION:https://www.flindersyc.com.au/event-2756104\n\n\n\n
DTSTAMP:20260424T162240Z
END:VEVENT
END:VCALENDAR
