BEGIN:VCALENDAR
VERSION:2.0
METHOD:PUBLISH
BEGIN:VEVENT
UID:WILD_APRICOT_EVENT_2756105_SESSION_1
DTSTART:20181207T220000Z
DTEND:20181208T125900Z
SUMMARY:Private Function
LOCATION:clubhouse
DESCRIPTION:https://www.flindersyc.com.au/event-2756105\n\n\n\n
DTSTAMP:20260424T162553Z
END:VEVENT
END:VCALENDAR
