BEGIN:VCALENDAR
VERSION:2.0
METHOD:PUBLISH
BEGIN:VEVENT
UID:WILD_APRICOT_EVENT_2756178_SESSION_1
DTSTART:20181123T060000Z
DTEND:20181125T090000Z
SUMMARY:Club Use Skiff Weekend
LOCATION:Club House
DESCRIPTION:https://www.flindersyc.com.au/event-2756178\n\n\n\n
DTSTAMP:20260424T162044Z
END:VEVENT
END:VCALENDAR
