BEGIN:VCALENDAR
VERSION:2.0
METHOD:PUBLISH
BEGIN:VEVENT
UID:WILD_APRICOT_EVENT_2756182_SESSION_1
DTSTART:20181102T060000Z
DTEND:20181106T123000Z
SUMMARY:Club Use Cup Weekend
LOCATION:Club House
DESCRIPTION:https://www.flindersyc.com.au/event-2756182\n\n\n\n
DTSTAMP:20260424T154801Z
END:VEVENT
END:VCALENDAR
