BEGIN:VCALENDAR
VERSION:2.0
METHOD:PUBLISH
BEGIN:VEVENT
UID:WILD_APRICOT_EVENT_2765674_SESSION_1
DTSTART:20190314T220000Z
DTEND:20190315T123000Z
SUMMARY:Private Function Set Up
LOCATION:Club house
DESCRIPTION:https://www.flindersyc.com.au/event-2765674\n\n\n\n
DTSTAMP:20260424T171212Z
END:VEVENT
END:VCALENDAR
