BEGIN:VCALENDAR
VERSION:2.0
METHOD:PUBLISH
BEGIN:VEVENT
UID:WILD_APRICOT_EVENT_2765675_SESSION_1
DTSTART:20190315T220000Z
DTEND:20190316T125900Z
SUMMARY:Private Function
LOCATION:clubhouse
DESCRIPTION:https://www.flindersyc.com.au/event-2765675\n\n\n\n
DTSTAMP:20260424T162449Z
END:VEVENT
END:VCALENDAR
