BEGIN:VCALENDAR
VERSION:2.0
METHOD:PUBLISH
BEGIN:VEVENT
UID:WILD_APRICOT_EVENT_2791355_SESSION_1
DTSTART:20190308T220000Z
DTEND:20190311T090000Z
SUMMARY:Club Use RMYS
LOCATION:Club House
DESCRIPTION:https://www.flindersyc.com.au/event-2791355\n\n\n\n
DTSTAMP:20260424T162205Z
END:VEVENT
END:VCALENDAR
