BEGIN:VCALENDAR
VERSION:2.0
METHOD:PUBLISH
BEGIN:VEVENT
UID:WILD_APRICOT_EVENT_2793154_SESSION_1
DTSTART:20190405T220000Z
DTEND:20190406T125900Z
SUMMARY:Private Function
LOCATION:clubhouse
DESCRIPTION:https://www.flindersyc.com.au/event-2793154\n\n\n\n
DTSTAMP:20260424T173959Z
END:VEVENT
END:VCALENDAR
