BEGIN:VCALENDAR
VERSION:2.0
METHOD:PUBLISH
BEGIN:VEVENT
UID:WILD_APRICOT_EVENT_2793158_SESSION_1
DTSTART:20190228T220000Z
DTEND:20190301T123000Z
SUMMARY:Private Function Set Up Member
LOCATION:
DESCRIPTION:https://www.flindersyc.com.au/event-2793158\n\n\n\n
DTSTAMP:20260424T174459Z
END:VEVENT
END:VCALENDAR
