BEGIN:VCALENDAR
VERSION:2.0
METHOD:PUBLISH
BEGIN:VEVENT
UID:WILD_APRICOT_EVENT_2793159_SESSION_1
DTSTART:20190301T220000Z
DTEND:20190302T125900Z
SUMMARY:Private Function Member
LOCATION:clubhouse
DESCRIPTION:https://www.flindersyc.com.au/event-2793159\n\n\n\n
DTSTAMP:20260424T153838Z
END:VEVENT
END:VCALENDAR
