BEGIN:VCALENDAR
VERSION:2.0
METHOD:PUBLISH
BEGIN:VEVENT
UID:WILD_APRICOT_EVENT_2793162_SESSION_1
DTSTART:20190328T220000Z
DTEND:20190329T123000Z
SUMMARY:Private Function Set Up
LOCATION:
DESCRIPTION:https://www.flindersyc.com.au/event-2793162\n\n\n\n
DTSTAMP:20260424T183349Z
END:VEVENT
END:VCALENDAR
