BEGIN:VCALENDAR
VERSION:2.0
METHOD:PUBLISH
BEGIN:VEVENT
UID:WILD_APRICOT_EVENT_2793171_SESSION_1
DTSTART:20190329T220000Z
DTEND:20190330T125900Z
SUMMARY:Private Function
LOCATION:clubhouse
DESCRIPTION:https://www.flindersyc.com.au/event-2793171\n\n\n\n
DTSTAMP:20260424T171747Z
END:VEVENT
END:VCALENDAR
