BEGIN:VCALENDAR
VERSION:2.0
METHOD:PUBLISH
BEGIN:VEVENT
UID:WILD_APRICOT_EVENT_2793541_SESSION_1
DTSTART:20181223T223000Z
DTEND:20190128T130000Z
SUMMARY:Club Use
LOCATION:Club House
DESCRIPTION:https://www.flindersyc.com.au/event-2793541\n\n\n\n
DTSTAMP:20260424T174239Z
END:VEVENT
END:VCALENDAR
