BEGIN:VCALENDAR
VERSION:2.0
METHOD:PUBLISH
BEGIN:VEVENT
UID:WILD_APRICOT_EVENT_2793543_SESSION_1
DTSTART:20190131T223000Z
DTEND:20190203T130000Z
SUMMARY:Club Use
LOCATION:Club House
DESCRIPTION:https://www.flindersyc.com.au/event-2793543\n\n\n\n
DTSTAMP:20260424T174402Z
END:VEVENT
END:VCALENDAR
