BEGIN:VCALENDAR
VERSION:2.0
METHOD:PUBLISH
BEGIN:VEVENT
UID:WILD_APRICOT_EVENT_2793546_SESSION_1
DTSTART:20190207T223000Z
DTEND:20190210T130000Z
SUMMARY:Club Use
LOCATION:Club House
DESCRIPTION:https://www.flindersyc.com.au/event-2793546\n\n\n\n
DTSTAMP:20260424T174743Z
END:VEVENT
END:VCALENDAR
