BEGIN:VCALENDAR
VERSION:2.0
METHOD:PUBLISH
BEGIN:VEVENT
UID:WILD_APRICOT_EVENT_2793549_SESSION_1
DTSTART:20190221T223000Z
DTEND:20190224T130000Z
SUMMARY:Club Use
LOCATION:Club House
DESCRIPTION:https://www.flindersyc.com.au/event-2793549\n\n\n\n
DTSTAMP:20260424T170745Z
END:VEVENT
END:VCALENDAR
