BEGIN:VCALENDAR
VERSION:2.0
METHOD:PUBLISH
BEGIN:VEVENT
UID:WILD_APRICOT_EVENT_2793565_SESSION_1
DTSTART:20190418T233000Z
DTEND:20190422T140000Z
SUMMARY:Club Use Easter
LOCATION:Club House
DESCRIPTION:https://www.flindersyc.com.au/event-2793565\n\n\n\n
DTSTAMP:20260424T160158Z
END:VEVENT
END:VCALENDAR
