BEGIN:VCALENDAR
VERSION:2.0
METHOD:PUBLISH
BEGIN:VEVENT
UID:WILD_APRICOT_EVENT_2793579_SESSION_1
DTSTART:20190503T220000Z
DTEND:20190505T133000Z
SUMMARY:FYC 420 Weekend regatta
LOCATION:clubhouse
DESCRIPTION:https://www.flindersyc.com.au/event-2793579\n\n\n\n
DTSTAMP:20260424T162851Z
END:VEVENT
END:VCALENDAR
