BEGIN:VCALENDAR
VERSION:2.0
METHOD:PUBLISH
BEGIN:VEVENT
UID:WILD_APRICOT_EVENT_2793605_SESSION_1
DTSTART:20190607T070000Z
DTEND:20190610T070000Z
SUMMARY:Club Use Queens Birthday Weekend
LOCATION:Club House
DESCRIPTION:https://www.flindersyc.com.au/event-2793605\n\n\n\n
DTSTAMP:20260424T171945Z
END:VEVENT
END:VCALENDAR
