BEGIN:VCALENDAR
VERSION:2.0
METHOD:PUBLISH
BEGIN:VEVENT
UID:WILD_APRICOT_EVENT_2793613_SESSION_1
DTSTART:20191101T060000Z
DTEND:20191105T123000Z
SUMMARY:Club Use Cup Weekend
LOCATION:Club House
DESCRIPTION:https://www.flindersyc.com.au/event-2793613\n\n\n\n
DTSTAMP:20260424T175025Z
END:VEVENT
END:VCALENDAR
