BEGIN:VCALENDAR
VERSION:2.0
METHOD:PUBLISH
BEGIN:VEVENT
UID:WILD_APRICOT_EVENT_2793614_SESSION_1
DTSTART:20191122T210000Z
DTEND:20191124T070000Z
SUMMARY:Club Use Skiff Weekend
LOCATION:Club House
DESCRIPTION:https://www.flindersyc.com.au/event-2793614\n\n\n\n
DTSTAMP:20260424T171503Z
END:VEVENT
END:VCALENDAR
