BEGIN:VCALENDAR
VERSION:2.0
METHOD:PUBLISH
BEGIN:VEVENT
UID:WILD_APRICOT_EVENT_2811178_SESSION_1
DTSTART:20181220T220000Z
DTEND:20181221T123000Z
SUMMARY:Private Function Set Up
LOCATION:
DESCRIPTION:https://www.flindersyc.com.au/event-2811178\n\n\n\n
DTSTAMP:20260424T154553Z
END:VEVENT
END:VCALENDAR
