BEGIN:VCALENDAR
VERSION:2.0
METHOD:PUBLISH
BEGIN:VEVENT
UID:WILD_APRICOT_EVENT_2811182_SESSION_1
DTSTART:20181221T220000Z
DTEND:20181222T125900Z
SUMMARY:Private Function
LOCATION:clubhouse
DESCRIPTION:https://www.flindersyc.com.au/event-2811182\n\n\n\n
DTSTAMP:20260424T161916Z
END:VEVENT
END:VCALENDAR
