BEGIN:VCALENDAR
VERSION:2.0
METHOD:PUBLISH
BEGIN:VEVENT
UID:WILD_APRICOT_EVENT_2831571_SESSION_1
DTSTART:20181025T220000Z
DTEND:20181026T125900Z
SUMMARY:Private Function Member
LOCATION:clubhouse
DESCRIPTION:https://www.flindersyc.com.au/event-2831571\n\n\n\n
DTSTAMP:20260424T162155Z
END:VEVENT
END:VCALENDAR
