BEGIN:VCALENDAR
VERSION:2.0
METHOD:PUBLISH
BEGIN:VEVENT
UID:WILD_APRICOT_EVENT_2844587_SESSION_1
DTSTART:20190321T220000Z
DTEND:20190322T123000Z
SUMMARY:Private Function Set Up
LOCATION:
DESCRIPTION:https://www.flindersyc.com.au/event-2844587\n\n\n\n
DTSTAMP:20260424T162116Z
END:VEVENT
END:VCALENDAR
