BEGIN:VCALENDAR
VERSION:2.0
METHOD:PUBLISH
BEGIN:VEVENT
UID:WILD_APRICOT_EVENT_2847548_SESSION_1
DTSTART:20190223T040000Z
DTEND:20190223T125900Z
SUMMARY:Private Function Member Golf Dinner
LOCATION:clubhouse
DESCRIPTION:https://www.flindersyc.com.au/event-2847548\n\n\n\n
DTSTAMP:20260424T173900Z
END:VEVENT
END:VCALENDAR
